BEGIN:VCALENDAR
VERSION:2.0
PRODID:-//MaJu Studios » Modelos WebCam Manizales - ECPv6.15.13.1//NONSGML v1.0//EN
CALSCALE:GREGORIAN
METHOD:PUBLISH
X-WR-CALNAME:MaJu Studios » Modelos WebCam Manizales
X-ORIGINAL-URL:https://majustudios.com
X-WR-CALDESC:Eventos para MaJu Studios » Modelos WebCam Manizales
REFRESH-INTERVAL;VALUE=DURATION:PT1H
X-Robots-Tag:noindex
X-PUBLISHED-TTL:PT1H
BEGIN:VTIMEZONE
TZID:America/Bogota
BEGIN:STANDARD
TZOFFSETFROM:-0500
TZOFFSETTO:-0500
TZNAME:-05
DTSTART:20200101T000000
END:STANDARD
END:VTIMEZONE
BEGIN:VEVENT
DTSTART;TZID=America/Bogota:20210612T080000
DTEND;TZID=America/Bogota:20210612T170000
DTSTAMP:20260425T224042
CREATED:20210605T150725Z
LAST-MODIFIED:20210605T150726Z
UID:5009-1623484800-1623517200@majustudios.com
SUMMARY:Playa Nudista MaJu
DESCRIPTION:Show Temático Playa Nudista MaJu\nEste 12 de Junio es un día para disfrutar de nuestro cuerpo\, queremos que te sientas libre como si estuvieras en una playa nudista\, haz que el recuerdo de las olas del mar\, de la playa\, de la arena y del sol sean tu mejor aliado para sentirte sexy y deseable. \nBusca ese equilibrio natural con tus usuarios\, siéntete empoderada de tu cuerpo y de tu personalidad\, cuando estas en la playa olvidas la celulitis y los rollitos de mas\, así que el 12 de junio en la Playa Nudista MaJu recrearas esos momentos de conexión con el ambiente y con tu ser. \nRecordemos que en la playa nudista MaJu no utilizamos ningún traje de baño\, las playa nudista esta habilitada para que las modelos turistas de MaJu Studios puedan practicar el nudismo en todo su esplendor\, es decir\, NO esta permitido usar vestimenta alguna. \nVamos a disfrutar de nuestro cuerpo y del hecho de estar totalmente desnudos\, la ropa es innecesaria y en general la playa nudista sirve para disfrutar de la libertad y fomentar el respeto. \n  \nIdeas para ir a la playa nudista\n\nLa ropa es innecesaria\, no la utilizaras\nEl bloqueador y el bronceador son útiles en los días de sol\nlos sombreros de playa son nuestros mejores amigos\nSiéntete libre\nDisfruta de tu cuerpo y sal de la zona de confort
URL:https://majustudios.com/evento/playa-nudista-maju/
LOCATION:MaJu Studios Sede Manizales\, MaJu Studios\, Manizales\, Caldas\, 170001\, Colombia
CATEGORIES:Fiestas Temáticas,Show Temático
ATTACH;FMTTYPE=image/jpeg:https://majustudios.com/wp-content/uploads/2021/06/playa-min.jpg
END:VEVENT
END:VCALENDAR