BEGIN:VCALENDAR
VERSION:2.0
PRODID:-//MaJu Studios » Modelos WebCam Manizales - ECPv6.15.13.1//NONSGML v1.0//EN
CALSCALE:GREGORIAN
METHOD:PUBLISH
X-ORIGINAL-URL:https://majustudios.com
X-WR-CALDESC:Eventos para MaJu Studios » Modelos WebCam Manizales
REFRESH-INTERVAL;VALUE=DURATION:PT1H
X-Robots-Tag:noindex
X-PUBLISHED-TTL:PT1H
BEGIN:VTIMEZONE
TZID:America/Bogota
BEGIN:STANDARD
TZOFFSETFROM:-0500
TZOFFSETTO:-0500
TZNAME:-05
DTSTART:20200101T000000
END:STANDARD
END:VTIMEZONE
BEGIN:VEVENT
DTSTART;TZID=America/Bogota:20210901T171835
DTEND;TZID=America/Bogota:20210901T171835
DTSTAMP:20260425T173547
CREATED:20210901T171704Z
LAST-MODIFIED:20210901T171835Z
UID:5164-1630516715-1630516715@majustudios.com
SUMMARY:MaJu English Class
DESCRIPTION:MaJu English Class\nClases de ingles personalizadas para Modelos Webcam patrocinadas por MaJu Studios y MaJu Academy. Uno de los Grandes Beneficios que tiene MaJu Studios para todo su equipo de modelos y colaboradores. \n \nNuestras clases de inglés son especializadas y están dirigidas a modelos webcam y Streamer que hacen parte del equipo de trabajo de MaJu Studios en cualquiera de sus modalidades\, las clases de inglés se adaptan a las necesidades de la industria del modelaje webcam por medio de una metodología propia adaptada a un aprendizaje rápido y efectivo\, todas las personas sin importar el nivel de inglés pueden entrar a estas clases. \nLas clases de inglés se realizan en pequeños grupos distribuidos por días y horarios\, dictadas por nuestro profesor del Equipo MaJu altamente calificado y con amplia experiencia en el aprendizaje del inglés\, su principal propósito es ayudarte a alcanzar tus objetivos personales y profesionales. \nOfrecemos un amplio rango de posibilidades y horarios. Todos los Martes y Jueves\, de 12PM a 1PM y de 2PM a 3PM. \n¿Que Beneficios Tiene MaJu English Class?\n \nRETOS: Participa en todas las actividades de MaJu English Class\, mejora tu nivel de inglés\, cumple tus objetivos a corto plazo y mejora tu nivel de conversación del inglés en tus transmisiones aumentando la retención en un 20%.  \nRESPUESTA A TODAS TUS PREGUNTAS: Comparte tu aprendizaje en cada clase\, resuelve tus dudas y aprende con MaJu English Class.  \nCHAT EN VIVO: Practica y mejora tus habilidades del inglés en tiempo real durante MaJu English Class con tus compañeras y profesores. MaJu English Class te ayuda a fortalecer tus habilidades de conversación. \n\n¿Por qué necesitas aprender Inglés ahora mismo?\n \nObtendrás un 70% más de probabilidades de obtener mejores ingresos como Modelo Webcam.  \nEl 80% de los usuarios hablan o se comunican en Inglés.  \nTus transmisiones serán más divertidas\, ya que no dependerá siempre del componente sexual\, si no que entra a jugar un papel muy importante el diálogo\, la conversación y la buena experiencia de usuario. \n\n\n¡Es momento perfecto para aprender inglés con MaJu English Class!\n\nAgenda Tus Clases de Inglés
URL:https://majustudios.com/evento/maju-english-class/
LOCATION:MaJu Studios Sede Manizales\, MaJu Studios\, Manizales\, Caldas\, 170001\, Colombia
CATEGORIES:Clases de Ingles
ATTACH;FMTTYPE=image/jpeg:https://majustudios.com/wp-content/uploads/2021/09/Cursos-de-ingles-Maju-English-Class-Maju-Academy-min.jpg
ORGANIZER;CN="Equipo MaJu Studios":MAILTO:Info@majustudios.com
END:VEVENT
END:VCALENDAR