BEGIN:VCALENDAR
VERSION:2.0
PRODID:-//MaJu Studios » Modelos WebCam Manizales - ECPv6.15.13.1//NONSGML v1.0//EN
CALSCALE:GREGORIAN
METHOD:PUBLISH
X-ORIGINAL-URL:https://majustudios.com
X-WR-CALDESC:Eventos para MaJu Studios » Modelos WebCam Manizales
REFRESH-INTERVAL;VALUE=DURATION:PT1H
X-Robots-Tag:noindex
X-PUBLISHED-TTL:PT1H
BEGIN:VTIMEZONE
TZID:UTC
BEGIN:STANDARD
TZOFFSETFROM:+0000
TZOFFSETTO:+0000
TZNAME:UTC
DTSTART:20210101T000000
END:STANDARD
END:VTIMEZONE
BEGIN:VEVENT
DTSTART;TZID=UTC:20220519T110000
DTEND;TZID=UTC:20220519T170000
DTSTAMP:20260421T132027
CREATED:20220605T004841Z
LAST-MODIFIED:20220605T004841Z
UID:5590-1652958000-1652979600@majustudios.com
SUMMARY:Taller Practico de Maquillaje
DESCRIPTION:En MaJu Studios nos preocupamos siempre por vernos y sentirnos lindas\, por tal motivo queremos realizar el Taller Práctico de Maquillaje del Mes de Mayo paso a paso\, un micro taller de maquillaje\, donde se explicarán varias técnicas para resaltar los ojos como el contraste de colores\, el uso del iluminador y cuidados de la piel. \nEl maquillaje hace parte fundamental de nuestras vidas y aún más de nuestro trabajo como modelos webcam\, sentirnos bellas es una cuestión de actitud\, pero el maquillaje ayuda mucho en ese proceso. \nEste taller practico de maquillaje y automaquillaje ha sido diseñado para desarrollar las habilidades de las modelos que hacen parte del Team MaJu tanto en la sede de Manizales como en las demás modalidades por medio de nuestra plataforma de transmisión en vivo\,  en las nuevas técnicas básicas del Maquillaje\, así como aprender a conocerse uno mismo con aplicación correcta de los productos\, aprender estilos innovadores adecuados a sus facciones\, piel y estilo propios. \n \nTécnicas de maquillaje en MaJu\n\nCorrectivo\nNatural\nEstándar\nJuvenil\nSmoke\nColoridos\nPerlados y metálicos\nPersonalizada\n\nEn MaJu Studios siempre Buscamos Oportunidades de fortalecer nuestro conocimiento para seguir creciendo. No tenemos límites en beneficios y Convenios. ¡APROVECHALOS! \nEstrategias para El taller de Maquillaje de MaJu\nDefinir y valorar las necesidades personales de cada modelo en cuanto a qué técnicas y productos de maquillaje usar. \nAprenderás a través de este taller a identificar los colores que te favorecen\, sacaras el máximo provecho de tu rostro según su tipo y la mejor forma de cuidar tu piel al maquillarte. \nTe llevaremos paso a paso a dominar las técnicas del contour\, delineado\, pestañas\, ojos y cada una de las etapas que llevarás a cabo para un maquillaje completo desde cero durante todo el taller practico. \nUna vez que domines las bases del taller de automaquillaje\, haremos 2 maquillajes completos que te harán lucir increíble. \n\nMake up No Make up\nMaquillaje de día\nMaquillaje de noche
URL:https://majustudios.com/evento/taller-practico-de-maquillaje/
LOCATION:MaJu Studios Sede Manizales\, MaJu Studios\, Manizales\, Caldas\, 170001\, Colombia
CATEGORIES:Talleres
ATTACH;FMTTYPE=image/jpeg:https://majustudios.com/wp-content/uploads/2022/06/estuches-de-maquillaje-profesional-completo-min.jpg
ORGANIZER;CN="Equipo MaJu Studios":MAILTO:Info@majustudios.com
END:VEVENT
END:VCALENDAR