BEGIN:VCALENDAR
VERSION:2.0
PRODID:-//MaJu Studios » Modelos WebCam Manizales - ECPv6.15.13.1//NONSGML v1.0//EN
CALSCALE:GREGORIAN
METHOD:PUBLISH
X-WR-CALNAME:MaJu Studios » Modelos WebCam Manizales
X-ORIGINAL-URL:https://majustudios.com
X-WR-CALDESC:Eventos para MaJu Studios » Modelos WebCam Manizales
REFRESH-INTERVAL;VALUE=DURATION:PT1H
X-Robots-Tag:noindex
X-PUBLISHED-TTL:PT1H
BEGIN:VTIMEZONE
TZID:UTC
BEGIN:STANDARD
TZOFFSETFROM:+0000
TZOFFSETTO:+0000
TZNAME:UTC
DTSTART:20220101T000000
END:STANDARD
END:VTIMEZONE
BEGIN:VEVENT
DTSTART;TZID=UTC:20230316T080000
DTEND;TZID=UTC:20230331T200000
DTSTAMP:20260420T113144
CREATED:20230317T010724Z
LAST-MODIFIED:20230317T010724Z
UID:6523-1678953600-1680292800@majustudios.com
SUMMARY:Disfruta de un Spa de Uñas
DESCRIPTION:Disfruta de una Tarde de Spa de Uñas\n¡Atención\, atención! ¡MaJu Studios tiene el placer de anunciar un emocionante concurso para todas sus modelos de Manizales! \nLas cinco primeras modelos del Top MaJu comprendido entre el 16 de Marzo al 31 de Marzo del presente corte\, tendrán la oportunidad de ganar un premio espectacular: \n\n💅 Un día completo en un relajante Spa de uñas 💅\n\n \nEl cuidado personal es una parte esencial de cualquier modelo Top\, y  MaJu Studios está comprometido en ayudar a todas las modelos a mantener su belleza y salud. Es por eso que estamos entusiasmados de ofrecer este premio a las 5 mejores modelos de nuestro concurso Top MaJu. \nComo participar y ganar el premio en el Spa de Uñas\nParticipar es muy fácil\, simplemente las 5 primeras modelos en el Ranking interno del Top MaJu serán las afortunadas ganadoras del premio. Cada ganadora recibirá un día de Spa de uñas muy placentero\, donde podrás disfrutar de tratamientos exclusivos para sus uñas y manos. \nEn MaJu Studios\, creemos que el cuidado personal es importante para todas nuestras modelos\, y esperamos que este premio inspire a nuestras modelos a cuidarse a sí mismas y a mantenerse en la cima de su transmision. \n¡No pierdas la oportunidad de ganar este increíble premio! ¡No faltes durante los días del concurso! \n \nTambién te invitamos a leer nuestra mas reciente publicación sobre la Importancia del cuidado de las uñas y las manos como un elemento esencial para mantener una buena higiene personal y una apariencia saludable durante nuestras transmisiones como modelos webcam.
URL:https://majustudios.com/evento/disfruta-de-un-spa-de-unas/
LOCATION:MaJu Studios Sede Manizales\, MaJu Studios\, Manizales\, Caldas\, 170001\, Colombia
CATEGORIES:Concursos
ATTACH;FMTTYPE=image/jpeg:https://majustudios.com/wp-content/uploads/2023/03/Premio-Spa-de-unas-cuidado-de-manos-min.jpg
ORGANIZER;CN="Equipo MaJu Studios":MAILTO:Info@majustudios.com
END:VEVENT
BEGIN:VEVENT
DTSTART;TZID=UTC:20230322T150000
DTEND;TZID=UTC:20230322T180000
DTSTAMP:20260420T113144
CREATED:20230310T002020Z
LAST-MODIFIED:20230314T184350Z
UID:6438-1679497200-1679508000@majustudios.com
SUMMARY:Seduction Class By Juan Lopez JL Agencia
DESCRIPTION:MasterClass Seduction Class By Juan Lopez JL Agencia\nEn MaJu Studios nos preocupamos siempre por seguir creciendo y capacitando a todas nuestras modelos en Manizales de la mano de expertos en cada área\, por tal motivo hemos invitado a Juan Lopez de JL Agencia para realizar la MasterClass Seduction Class 2023 que esta enfocada en la seducción y la comunicación no verbal hacia nuestros usuarios\, donde nuestras modelos aprenderán todo lo referente a los estilos y técnicas para seducir con la mirada. \nMasterClass Seduction\nLa mirada es uno de los elementos más poderosos en la seducción. Puede transmitir una gran cantidad de información y emociones\, y puede crear una conexión instantánea entre dos personas. A continuación\, hablaremos sobre algunos algunos estilos y técnicas para seducir con la mirada que se trataran en el MasterClass Seduction dictado por Juan Lopez de JL Agencia. \nJuan Lopez JL Agencia: Preparados de reinas y Modelos \nEl estilo suave y seductor\nEste estilo implica una mirada suave y penetrante. Para lograr este estilo\, debes relajar tus ojos y mirar directamente a los ojos de la persona que deseas seducir. Es importante evitar mirar fijamente\, ya que esto puede ser intimidante. En su lugar\, debes mirar con un poco de ternura y amor. Este estilo funciona mejor en situaciones más íntimas\, como durante una cena o una conversación tranquila. \nEl estilo coqueto\nEste estilo implica una mirada juguetona y llena de vida. Para lograr este estilo\, debes parpadear rápidamente y mirar a la persona que deseas seducir desde debajo de tus pestañas. Esto crea una sensación de coquetería y es especialmente efectivo en situaciones informales y divertidas\, como durante una fiesta. \nEl estilo intenso\nEste estilo implica una mirada directa y penetrante. Para lograr este estilo\, debes mantener tus ojos abiertos y enfocados en la persona que deseas seducir. Este estilo puede ser muy efectivo si se hace correctamente\, pero también puede ser intimidante si se exagera. Es importante utilizar este estilo con moderación y en situaciones donde se sienta cómodo y seguro. \nTécnicas para seducir con la mirada\nAdemás de estos estilos\, existen algunas técnicas que puedes utilizar para seducir con la mirada. A continuación\, describiremos algunas de ellas: \n\nEl contacto visual: Mantener un contacto visual prolongado puede crear una conexión emocional instantánea. Es importante recordar que no debes mantener el contacto visual durante demasiado tiempo\, ya que esto puede ser intimidante.\nEl juego de miradas: Utiliza una serie de miradas rápidas y coquetas para mantener a la persona que deseas seducir interesada y adivinando. Esto puede crear una sensación de anticipación y emoción.\nEl cierre lento: Cierra tus ojos lentamente mientras mantienes el contacto visual con la persona que deseas seducir. Esta técnica puede crear una sensación de intimidad y conexión emocional.\nLa sonrisa seductora: Acompaña tu mirada con una sonrisa suave y seductora. Esto puede hacer que la persona que deseas seducir se sienta cómoda y atraída hacia ti.\n\nEn conclusión\, la mirada es una herramienta poderosa en la seducción. Utiliza estos estilos y técnicas para seducir con la mirada y crea una conexión emocional instantánea con la persona que deseas seducir. Recuerda que la clave es utilizar estas técnicas con moderación y en situaciones donde te sientas cómodo y seguro. \nEn el MasterClass Seduction dictado por Juan Lopez de JL Agencia se abordaran estos temas de una forma Teórica y Practica\, No te lo puedes perder\, prográmate y agéndate para esta Capacitación Seduction Class.
URL:https://majustudios.com/evento/seduction-class-by-juan-lopez-jl-agencia/
LOCATION:MaJu Studios Sede Manizales\, MaJu Studios\, Manizales\, Caldas\, 170001\, Colombia
CATEGORIES:Clases,Talleres
ATTACH;FMTTYPE=image/jpeg:https://majustudios.com/wp-content/uploads/2023/03/Juan-Lopez-de-JL-Agencia-Capacitadores-y-preparadores-de-Reinas-y-modelos-webcam-min.jpg
ORGANIZER;CN="Equipo MaJu Studios":MAILTO:Info@majustudios.com
END:VEVENT
BEGIN:VEVENT
DTSTART;TZID=UTC:20230322T150000
DTEND;TZID=UTC:20230322T180000
DTSTAMP:20260420T113144
CREATED:20230310T004059Z
LAST-MODIFIED:20230314T184514Z
UID:6446-1679497200-1679508000@majustudios.com
SUMMARY:My Self Class By Juan Lopez JL Agencia
DESCRIPTION:My Self Class By Juan Lopez JL Agencia\nEn MaJu Studios nos preocupamos siempre por seguir creciendo y capacitando a todas nuestras modelos en Manizales de la mano de expertos en cada área\, hemos invitado a Juan Lopez de JL Agencia el cual realizara la capacitación My Self Class en donde aprenderás todo lo relacionado con tus pilares emocionales. \nVive una experiencia enfocada en tu mente\, cuerpo y alma. By Juan Lopez JL Agencia \nVive tu mejor experiencia con MaJu Studios \nMy Self Class By Juan Lopez\n \nJuan Lopez JL Agencia: Preparador de reinas y Modelos en My Self Class dictado por Juan Lopez de JL Agencia se abordaran estos temas de una forma Teórica y Practica\, No te lo puedes perder\, prográmate y agéndate para esta Capacitación My Self Class.
URL:https://majustudios.com/evento/my-self-class-by-juan-lopez-jl-agencia/
LOCATION:MaJu Studios Sede Manizales\, MaJu Studios\, Manizales\, Caldas\, 170001\, Colombia
CATEGORIES:Clases,Talleres
ATTACH;FMTTYPE=image/jpeg:https://majustudios.com/wp-content/uploads/2023/03/My-Self-Class-Juan-Lopez-JL-Agencia.jpg
ORGANIZER;CN="Equipo MaJu Studios":MAILTO:Info@majustudios.com
END:VEVENT
END:VCALENDAR