BEGIN:VCALENDAR
VERSION:2.0
PRODID:-//MaJu Studios » Modelos WebCam Manizales - ECPv6.15.13.1//NONSGML v1.0//EN
CALSCALE:GREGORIAN
METHOD:PUBLISH
X-ORIGINAL-URL:https://majustudios.com
X-WR-CALDESC:Eventos para MaJu Studios » Modelos WebCam Manizales
REFRESH-INTERVAL;VALUE=DURATION:PT1H
X-Robots-Tag:noindex
X-PUBLISHED-TTL:PT1H
BEGIN:VTIMEZONE
TZID:America/Bogota
BEGIN:STANDARD
TZOFFSETFROM:-0500
TZOFFSETTO:-0500
TZNAME:-05
DTSTART:20230101T000000
END:STANDARD
END:VTIMEZONE
BEGIN:VEVENT
DTSTART;TZID=America/Bogota:20240629T140000
DTEND;TZID=America/Bogota:20240629T143000
DTSTAMP:20260425T185303
CREATED:20240628T181625Z
LAST-MODIFIED:20240628T181625Z
UID:8613-1719669600-1719671400@majustudios.com
SUMMARY:Conversatorio Práctico Cómo Hacer un Tip Menú que Convierta
DESCRIPTION:Conversatorio Práctico Cómo Hacer un Tip Menú que funcione\n📣 ¡Atención a todas nuestras Modelos MaJu! 🌟 Nos complace invitarlas a nuestro conversatorio práctico donde aprenderán a Como crear un Tip Menu que realmente convierta y atraiga a más usuarios. \nTemas del Conversatorio:\n\nRevisión de los Tip Menus actuales de las modelos: Evaluaremos qué Tip Menus tienen actualmente\, cuánto tiempo llevan usándolos y qué tan efectivos son.\nReestructuración y actualización: Aprenderán a reestructurar o actualizar sus Tip Menus para que sean más convincentes\, alineados con las necesidades y gustos de los usuarios.\nModernización: Cómo modernizar sus Tip Menus\, incorporando creatividad y dinamismo.\nEjemplos prácticos: Presentaremos ejemplos prácticos y cómo adaptarlos a sus juguetes\, elementos\, vestuarios y peticiones de tendencias actuales.\n\n¿Qué debes traer a este conversatorio?\n✅ El Tip Menu que manejas 📝\n✅ Libreta 📒\n✅ Bolígrafo 🖊️ \nDetalles del Evento:\n📅 Fecha: Sábado 29 de Junio 2024. \n📍 Lugar: Sede 1 MaJu Studios \n⏰ Hora: 1:30 PM – 2:30 PM BMT \n🚀Dictada por: Líder de modelos Margith Gomez \n📢 En directo por Google Meet: Con retransmisión en nuestra plataforma de entrenamiento en vivo MaJu Live\, solicita tu link acceso al equipo de soporte vía WhatsApp para la Modalidad Satélite Colombia e Internacional. \nNo olvides revisar el Glosario y Wiki MaJu y Foros del webcam por si tienes alguna inquietud sobre la terminología de la industria. \n¡No te pierdas esta oportunidad de mejorar tu Tip Menu y aumentar tus ingresos! ¡Te esperamos! 👩🏻‍🏫🚀 \nPara Quién va dirigido esta MasterClass\nEste evento está dirigido a todas las modelos de MaJu que buscan mejorar sus ingresos y atraer más usuarios a través de la optimización de sus Tip Menus. Es especialmente útil para aquellas modelos que: \n\nQuieren evaluar y mejorar la efectividad de sus Tip Menus actuales.\nDesean actualizar y modernizar sus Tip Menus para alinearlos con las tendencias y preferencias de los usuarios.\nEstán interesadas en aprender nuevas estrategias y técnicas para hacer sus Tip Menus más atractivos y convincentes.\nBuscan ejemplos prácticos y asesoramiento personalizado para integrar juguetes\, vestuarios y elementos creativos en sus Tip Menus.
URL:https://majustudios.com/evento/conversatorio-como-hacer-un-tip-menu/
LOCATION:MaJu Studios Sede Manizales\, MaJu Studios\, Manizales\, Caldas\, 170001\, Colombia
CATEGORIES:Capacitaciones,Clases,Eventos,MasterClass,Talleres
ATTACH;FMTTYPE=image/jpeg:https://majustudios.com/wp-content/uploads/2024/06/Crear-Tip-menu-que-conviertan-que-llamen-la-atencion.jpg
ORGANIZER;CN="Equipo MaJu Studios":MAILTO:Info@majustudios.com
END:VEVENT
END:VCALENDAR