BEGIN:VCALENDAR
VERSION:2.0
PRODID:-//MaJu Studios » Modelos WebCam Manizales - ECPv6.15.13.1//NONSGML v1.0//EN
CALSCALE:GREGORIAN
METHOD:PUBLISH
X-WR-CALNAME:MaJu Studios » Modelos WebCam Manizales
X-ORIGINAL-URL:https://majustudios.com
X-WR-CALDESC:Eventos para MaJu Studios » Modelos WebCam Manizales
REFRESH-INTERVAL;VALUE=DURATION:PT1H
X-Robots-Tag:noindex
X-PUBLISHED-TTL:PT1H
BEGIN:VTIMEZONE
TZID:America/Bogota
BEGIN:STANDARD
TZOFFSETFROM:-0500
TZOFFSETTO:-0500
TZNAME:-05
DTSTART:20230101T000000
END:STANDARD
END:VTIMEZONE
BEGIN:VEVENT
DTSTART;TZID=America/Bogota:20240712T160000
DTEND;TZID=America/Bogota:20240712T170000
DTSTAMP:20260420T202928
CREATED:20240711T165538Z
LAST-MODIFIED:20240711T165538Z
UID:8624-1720800000-1720803600@majustudios.com
SUMMARY:Capacitación Mango App 2024\, aprende desde cero
DESCRIPTION:🚀 MasterClass: Capacitación Mango App 🎬🔥\n📣 ¡Bienvenidas a una nueva capacitación sobre cómo manejar la app Mango desde cero! Este evento es ideal para cualquier persona interesada en maximizar el uso de Mango\, con estrategias y recomendaciones para sobresalir\, fidelizar y generar mejores ingresos. \nEn un mundo donde cada día hay más competencia\, es esencial contar con la información adecuada. Estamos aquí para proporcionarte todos los tips y trucos necesarios para destacar en el uso de la app Mango y\, de esa manera\, mejorar tus ingresos. En esta capacitación\, descubrirás estrategias y técnicas clave que te ayudarán a dominar esta herramienta. 👩🏻‍🏫 \nÚnete a nosotros para una sesión de capacitación en profundidad donde cubriremos todo lo que necesitas saber sobre la app Mango. Ya sea que seas nuevo en la app o busques mejorar tus habilidades\, esta masterclass está diseñada para ayudarte a tener éxito. La sesión será interactiva\, con oportunidades para hacer preguntas y recibir asesoramiento personalizado. \nTemas de la MasterClass Capacitación Mango App:\n\nEstrategias efectivas para el manejo de la app Mango.\nTécnicas para atraer y retener a tus clientes.\nUso de herramientas y recursos dentro de la app.\nCómo optimizar tu perfil y contenido para maximizar tu visibilidad.\nTrucos para interactuar de manera efectiva con tus clientes.\nConsejos para generar mayores ingresos usando la app Mango.\nLa importancia de la autenticidad y cómo construir tu marca personal.\n\n📅 Fecha: Viernes 12 de Julio 2024. \n⏰ Hora: \n\n🇨🇴 Colombia: 4PM\n🇻🇪 Venezuela: 4:30PM\n🇵🇪 Perú: 4PM\n🇪🇨 Ecuador: 4PM\n🇦🇷 Argentina: 6PM\n🇲🇽 México: 2PM\n🇪🇸 España: 11PM\n🇧🇴 Bolivia: 5PM\n\n📍 Lugar: Transmisión en vivo por Google Meet con retransmisión en nuestra plataforma de entrenamiento en vivo MaJu Live exclusiva de StreamerAgent.com. \n⭐ Puedes ingresar aquí: https://meet.google.com/wmi-sacm-oez \nNuestra experta en la app Mango\, Valeria\, te guiará a lo largo de la sesión y responderá a todas tus preguntas. ¡Prepárate para aprender\, conectar con otros usuarios y mejorar tu impacto usando la app Mango! \nRecuerda que el aprendizaje no tiene límites\, y con determinación y dedicación\, ¡puedes alcanzar tus metas! No te pierdas esta oportunidad de mejorar tu presencia y conectar mejor con tus clientes. ¡Te esperamos! 👩🏻‍🏫🚀 \nCapacitación Mango App\, aprende desde cero
URL:https://majustudios.com/evento/capacitacion-mango-app-aprende-desde-cero/
LOCATION:MaJu Studios Sede Manizales\, MaJu Studios\, Manizales\, Caldas\, 170001\, Colombia
CATEGORIES:Capacitaciones,Clases,MasterClass,Talleres
ATTACH;FMTTYPE=image/jpeg:https://majustudios.com/wp-content/uploads/2024/07/Capacitacion-Mango-App-aprende-desde-cero-min.jpg
ORGANIZER;CN="Equipo MaJu Studios":MAILTO:Info@majustudios.com
END:VEVENT
END:VCALENDAR