BEGIN:VCALENDAR
VERSION:2.0
PRODID:-//MaJu Studios » Modelos WebCam Manizales - ECPv6.15.13.1//NONSGML v1.0//EN
CALSCALE:GREGORIAN
METHOD:PUBLISH
X-ORIGINAL-URL:https://majustudios.com
X-WR-CALDESC:Eventos para MaJu Studios » Modelos WebCam Manizales
REFRESH-INTERVAL;VALUE=DURATION:PT1H
X-Robots-Tag:noindex
X-PUBLISHED-TTL:PT1H
BEGIN:VTIMEZONE
TZID:America/Bogota
BEGIN:STANDARD
TZOFFSETFROM:-0500
TZOFFSETTO:-0500
TZNAME:-05
DTSTART:20200101T000000
END:STANDARD
END:VTIMEZONE
BEGIN:VEVENT
DTSTART;TZID=America/Bogota:20210515T070000
DTEND;TZID=America/Bogota:20210515T200000
DTSTAMP:20260425T224210
CREATED:20210420T130014Z
LAST-MODIFIED:20210510T234216Z
UID:4759-1621062000-1621108800@majustudios.com
SUMMARY:Show Temático Profesora Sexy MaJu
DESCRIPTION:Show Temático de Profesora Sexy MaJu\nEn el mes de mayo hay diversas celebraciones del dia del maestro o profesora en varios países\, en Colombia\, México\, Corea del sur se celebra el 15 de Mayo y hemos creado un concurso donde se recreará un show temático de profesora Sexy MaJu. \nSeguimos impulsando las buenas prácticas de implantar creatividad\, dinamismo e integraciones por medio de Show Temáticos\, todo el Equipo de trabajo de Modelos y Administrativos de MaJu Studios haremos de este día la mejor transmisión en vivo cubriendo la dinámica\, donde podrás cautivar a tus seguidores y amigos durante la transmisión en vivo siendo su Profesora Sexy de Inglés\, español\, historia e incluso Matemáticas. \nEste dia sacaremos nuestro mejor atuendo\, vestido sexy\, medias elegantes\, anteojos o gafas\, regla\, colores\, marcadores para pizarrón y prepararas una historia que involucre a tus seguidores y amigos en una fantasía de erotismo y sensualidad con su Profesora Sexy – Sexy Teacher. \nProfesora Sexy – Sexy Teacher\n \nAlgunas Ideas e historias de Profesora Sexy para que hagas en tu transmisión\n\nUtiliza un tablero o pizarrón para escribir lo que harás en toda tu transmisión\, recrear una historia de Profesora tierna pero exigente\, fuerte\, audaz.\nTrae una cartelera y enséñale a tus usuarios español práctico.\nTrae imágenes de las partes de tu cuerpo y enséñales su pronunciación en español e inglés.\nHabla con ellos mientras les cuentas historias de geografía\, arte\, música clásica\, pintura o de una temática que prepares la noche anterior.\nTrae muchos cuadernos\, libros o demás accesorios propios de una profesora que está calificando a sus estudiantes\, qué tal si tus usuarios te ayudan a calificar cada examen\, segun como esten los dibujos. Cada uno calificara por medio de la cantidad de propina pública.\nHazle peticiones a todos tus usuarios\, involucralos en tu rol de profesora y diviértete mientras transmites.\n\nHay muchos más roles que puedes hacer como Profesora Sexy\, la creatividad e imaginación no tiene límites. Siempre informale a tus usuarios en tu transmisión. \nPremio del dia de la Profesora Sexy MaJu\nEste día daremos un espectacular premio a la Profesora Más Sexy que transmita con su atuendo\, vestuario de profesora sexy\, accesorios o elementos propios de una profesora como reglas\, carteleras\, libros\, cuadernos\, pizarrón\, gafas y que genere la mayor cantidad de ingresos ese día. \n\nLa ganadora recibirá de parte de MaJu Studios con el patrocinio de MaJu Shop un espectacular Vibrador Alien de Tentáculos giratorios de Elegant Lover color Morado.
URL:https://majustudios.com/evento/show-tematico-profesora-sexy-maju/
LOCATION:MaJu Studios Sede Manizales\, MaJu Studios\, Manizales\, Caldas\, 170001\, Colombia
CATEGORIES:Concursos,Fiestas Temáticas,Show Temático
ATTACH;FMTTYPE=image/jpeg:https://majustudios.com/wp-content/uploads/2021/04/Show-Tematico-de-Profesora-Sexy-Sexy-Teacher-MaJu-Studios.jpg
ORGANIZER;CN="Equipo MaJu Studios":MAILTO:Info@majustudios.com
END:VEVENT
BEGIN:VEVENT
DTSTART;VALUE=DATE:20210521
DTEND;VALUE=DATE:20210522
DTSTAMP:20260425T224210
CREATED:20210517T195432Z
LAST-MODIFIED:20210520T115750Z
UID:4841-1621555200-1621641599@majustudios.com
SUMMARY:Show Especial Cameltoe
DESCRIPTION:Show Especial Cameltoe\nEl Cameltoe es reconocido en la industria del entretenimiento para adultos como «pezuña de camello»\, en el Cameltoe es posible apreciar los labios mayores de la vulva de la mujer bajo la ropa interior o deportiva muy ajustada que se aprecia desde la parte delantera\, otro término con el que se conoce es el pancho\, para realizar un buen Cameltoe es necesario tener la ropa interior adecuada o la ropa deportiva que se marque en el área. \nCamel toe literalmente pezuña de camello\nMuy seguramente lo hayas oído hablar o ya te lo hayan solicitado en alguna ocasión en tus transmisiones en línea\, ahora es tiempo de sumarnos a esta moda que atrae muchas miradas tanto en el público como en escenarios privados. \nRopa adecuada para hacer Cameltoe\n\nEl Cameltoe aparece comúnmente como resultado de la depilación y de vestir ropa en las siguientes condiciones:\nCalzón\, ropa deportiva\, pantalones estrechos\nVaqueros muy ajustados\, pantalones cortos\, hotpants\, ropa interior o trajes de baño.\nEjercicio vigoroso o repetidor\, incluyendo carrera\, sobre todo en ropa apretada más habitual.\nRopa de vestir sin ropa interior\, lo que acentúa las formas femeninas.\nRopa mojada.\nPantalones demasiado altos.\n\nEjemplos Cameltoe\n \n \nMás ejemplos de Camel toe\nIdeas cameltoe\nMovimientos Cameltoe en Transmisión\n \nPublicidad segmentada Cameltoe\nEste dia tendremos Publicidad Segmentada en todas nuestras redes de afiliados en países estratégicos\, adicionalmente compraremos en varios sitios de contenidos para adultos el término Cameltoe\, de tal manera que cada persona que busque este término nuestro sistema de publicidad MaJu Ads mostrará un anuncio de las modelos que están haciendo cameltoe\, de tal manera que esto se convertirá en más posibilidades de tener nuevos usuarios que están buscando CAMELTOE y generar nuevas conversiones.
URL:https://majustudios.com/evento/show-especial-cameltoe/
LOCATION:MaJu Studios Sede Manizales\, MaJu Studios\, Manizales\, Caldas\, 170001\, Colombia
CATEGORIES:Fiestas Temáticas,Show Temático
ATTACH;FMTTYPE=image/jpeg:https://majustudios.com/wp-content/uploads/2021/05/Show-Especial-Cameltoe.jpg
ORGANIZER;CN="Equipo MaJu Studios":MAILTO:Info@majustudios.com
END:VEVENT
BEGIN:VEVENT
DTSTART;VALUE=DATE:20210528
DTEND;VALUE=DATE:20210529
DTSTAMP:20260425T224210
CREATED:20210524T151614Z
LAST-MODIFIED:20210528T054647Z
UID:4953-1622160000-1622246399@majustudios.com
SUMMARY:Jean Day MaJu
DESCRIPTION:Show temático Jean Day MaJu\nEl Jean\, una exitosa prenda que todas las mujeres tienen\, existen muchos estilos texturas y colores\, el jean adecuado nos realza la figura\, en Colombia se creo el mejor invento en Jeans\, el levanta cola y desde el año 1992 es un éxito en las mujeres que carecen de una figura esbelta. \nEL día 28 de mayo el Jean será el centro de atracción\, ya que marcará tendencia en las transmisiones. \n  \nIdeas creativas que puedes hacer con tus Jeans\n\nMoja la entrepierna del jean\, será atractivo para tus usuarios.\nRompe el jean en la entrepierna\, darás la impresión de estar vestida y ser seductora a la vez.\nSi tienes el exitoso jean levanta cola y que realce tu figura\, puedes colocarte unos pantys seductores y dejar que se marquen\, tus usuarios lo amaran.\nUsa un jean blanco con unos pantys coloridos\, llamaras la atención de muchos usuarios\n\nPor ultimo no te limites con tu imaginación\, el jean es el mejor aliado en tu transmisión. \n \n \nSeguimos impulsando las buenas prácticas de implantar creatividad\, dinamismo e integraciones por medio de Show Temáticos\, todo el Equipo de trabajo de Modelos y Administrativos de MaJu Studios haremos de este día la mejor transmisión en vivo cubriendo la dinámica\, donde podrás cautivar a tus seguidores y amigos durante la transmisión en vivo usando tus mejores jeans y siendo muy creativa con ellos.
URL:https://majustudios.com/evento/jean-day-maju/
LOCATION:MaJu Studios Sede Manizales\, MaJu Studios\, Manizales\, Caldas\, 170001\, Colombia
CATEGORIES:Fiestas Temáticas,Show Temático
ATTACH;FMTTYPE=image/png:https://majustudios.com/wp-content/uploads/2021/05/jean.png
ORGANIZER;CN="Equipo MaJu Studios":MAILTO:Info@majustudios.com
END:VEVENT
END:VCALENDAR