BEGIN:VCALENDAR
VERSION:2.0
PRODID:-//MaJu Studios » Modelos WebCam Manizales - ECPv6.15.13.1//NONSGML v1.0//EN
CALSCALE:GREGORIAN
METHOD:PUBLISH
X-WR-CALNAME:MaJu Studios » Modelos WebCam Manizales
X-ORIGINAL-URL:https://majustudios.com
X-WR-CALDESC:Eventos para MaJu Studios » Modelos WebCam Manizales
REFRESH-INTERVAL;VALUE=DURATION:PT1H
X-Robots-Tag:noindex
X-PUBLISHED-TTL:PT1H
BEGIN:VTIMEZONE
TZID:America/Bogota
BEGIN:STANDARD
TZOFFSETFROM:-0500
TZOFFSETTO:-0500
TZNAME:-05
DTSTART:20200101T000000
END:STANDARD
END:VTIMEZONE
BEGIN:VEVENT
DTSTART;TZID=America/Bogota:20210709T080000
DTEND;TZID=America/Bogota:20210710T170000
DTSTAMP:20260425T191823
CREATED:20210706T215406Z
LAST-MODIFIED:20210706T215406Z
UID:5094-1625817600-1625936400@majustudios.com
SUMMARY:Fondo de Bikini
DESCRIPTION:Este próximo 9 y 10 de Julio tendremos una celebración en lo mas profundo del mar\, nuestra fiesta temática Fondo de Bikini\, donde tendremos gran variedad en colores y formas\, el Bikini se llevara toda la atención de nuestros espectadores\, la música con sonidos tropicales será nuestra mayor inspiración para divertirnos en dos días llenos de magia y calor tropical. \nLos bikinis de colores alegres nos traerán una experiencia nunca antes vista\, los sombreros y los flotadores darán a nuestra puesta en escena mayor creatividad. \n \nSe dice que las estrellas de mar son uno de los animales mas hermosos del océano\, es importante jugar con nuestra creatividad\, una de las ideas es un traje de estrellas en body paint\, o si tienes un bikini de estas hermosas estrellas seria esencial para esta celebración. \nPor ultimo vamos a escuchar música que nos transporte directamente a sentir la brisa\, el calor y la energía tropical que tanto deseamos.
URL:https://majustudios.com/evento/fondo-de-bikini/
LOCATION:MaJu Studios Sede Manizales\, MaJu Studios\, Manizales\, Caldas\, 170001\, Colombia
CATEGORIES:Integraciones,Show Temático
ATTACH;FMTTYPE=image/jpeg:https://majustudios.com/wp-content/uploads/2021/07/fondoBikini-min.jpg
ORGANIZER;CN="Equipo MaJu Studios":MAILTO:Info@majustudios.com
END:VEVENT
BEGIN:VEVENT
DTSTART;TZID=America/Bogota:20210715T080000
DTEND;TZID=America/Bogota:20210715T170000
DTSTAMP:20260425T191823
CREATED:20210703T161605Z
LAST-MODIFIED:20210703T161605Z
UID:5082-1626336000-1626368400@majustudios.com
SUMMARY:Naked Day MaJu
DESCRIPTION:Show Temático Naked Day MaJu\nEste 15 de Julio es un día para disfrutar de nuestro cuerpo\, queremos que te sientas libre como si estuvieras en un Naked Day\, la libertad se apodera de tu cuerpo\, la alegría y el erotismo\, los accesorios grandes salen a relucir. \nBusca ese equilibrio natural con tus usuarios\, siéntete empoderada de tu cuerpo y de tu personalidad\, cuando estas en el Naked Day olvidas la celulitis y los rollitos de mas\, así que el 15 de julio en el Naked Day MaJu recrearas esos momentos de conexión con el ambiente y con tu ser. \nRecordemos que en el Naked Day MaJu no utilizamos ningún traje de baño\, solo accesorios grandes como collares\, pulseras\, sombreros que nos den un toque de glamour al evento. NO esta permitido usar vestimenta alguna. \nVamos a disfrutar de nuestro cuerpo y del hecho de estar totalmente desnudos\, la ropa es innecesaria y en general el Naked Day sirve para disfrutar de la libertad y fomentar el respeto. \n  \nIdeas para disfrutar el Naked Day\n\nLa ropa es innecesaria\, no la utilizaras\nEl bloqueador y el bronceador son útiles en los días de sol\nlos sombreros grandes son nuestros mejores amigos\nUsa accesorios llamativos\, collares\, pulseras\nSiéntete libre sin olvidar el maquillaje\nDisfruta de tu cuerpo y sal de la zona de confort
URL:https://majustudios.com/evento/naked-day-maju/
LOCATION:MaJu Studios Sede Manizales\, MaJu Studios\, Manizales\, Caldas\, 170001\, Colombia
CATEGORIES:Fiestas Temáticas,Show Temático
ATTACH;FMTTYPE=image/jpeg:https://majustudios.com/wp-content/uploads/2021/06/playa-min.jpg
END:VEVENT
END:VCALENDAR