BEGIN:VCALENDAR
VERSION:2.0
PRODID:-//MaJu Studios » Modelos WebCam Manizales - ECPv6.15.13.1//NONSGML v1.0//EN
CALSCALE:GREGORIAN
METHOD:PUBLISH
X-ORIGINAL-URL:https://majustudios.com
X-WR-CALDESC:Eventos para MaJu Studios » Modelos WebCam Manizales
REFRESH-INTERVAL;VALUE=DURATION:PT1H
X-Robots-Tag:noindex
X-PUBLISHED-TTL:PT1H
BEGIN:VTIMEZONE
TZID:UTC
BEGIN:STANDARD
TZOFFSETFROM:+0000
TZOFFSETTO:+0000
TZNAME:UTC
DTSTART:20210101T000000
END:STANDARD
END:VTIMEZONE
BEGIN:VEVENT
DTSTART;TZID=UTC:20221103T160000
DTEND;TZID=UTC:20221103T180000
DTSTAMP:20260421T001639
CREATED:20221103T004516Z
LAST-MODIFIED:20221103T004516Z
UID:6205-1667491200-1667498400@majustudios.com
SUMMARY:Clase de Baile Ritmos Latinos
DESCRIPTION:En MaJu Studios nos preocupamos siempre por vernos y sentirnos mejor\, realizar actividades de integración y recreativas\, es por eso que Junto a la Academia Latinoeb queremos invitarte a la Clase de Baile Ritmos Latinos que se realizara el Jueves 3 de noviembre en la academia Latino Escuela de Baile en Manizales. \n        Ver esta publicación en Instagram            Una publicación compartida por Latino Escuela de Baile (@latinoeb)  \nClase de Baile patrocinada por MaJu Studios Manizales\nAdemás de ser divertido\, ir a clases de baile es muy beneficioso para la salud de nuestro cuerpo y salud mental\, aprender a bailar no sólo les permitirá practicar una actividad entretenida\, ejercitar nuestro cuerpo\, mover los músculos y distraernos quemando calorías. \nLas clases de Baile también les aportará muchas ventajas tanto para su salud como para su bienestar emocional. Y no sólo eso\, también son beneficiosas para mejorar su rendimiento en el trabajo como modelos webcam. \nEl baile hace que las personas adquieran una serie de habilidades que les ayudará después en sus transmisiones\, también estimular otras actividades relacionadas con las artes plásticas. Y en general\, con todas las relacionadas con la creatividad. \nClases de baile\, buenas para nuestro trabajo\nLa práctica de clases de baile fomenta la creatividad\, ayuda a las personas a apreciar más todo lo relacionado con el arte. Además\, al ofrecerles una forma de dar rienda suelta a sus sentimientos\, les ayuda a mejorar a la hora de expresarse. Todo esto no sólo les ayudará en el futuro\, sino que también les ayudará de manera inmediata\, en su día a día en el trabajo. \n \n6 razones para ir a la clase de Baile\n1. Conoces gente nueva\nEn la escuela de baile es un entorno ideal para conocer a gente afín y ampliar el círculo de amistades. El entorno es positivo\, relajado y divertido\,  las circunstancias perfectas para conectar con otras personas y hacer nuevos amigos. \n2. Mejora tu autoestima\nAprender a bailar ayuda a adquirir seguridad y un mayor conocimiento y aceptación del propio cuerpo. También implica enfrentarse a un reto y al desarrollo de una nueva habilidad. Todo ello\, incluyendo las nuevas relaciones sociales\, contribuye a reforzar la autoestima\, no solo dentro de la escuela de baile\, también en el día a día. \n3. Es un estímulo para el cerebro\nEstá comprobado que adquirir nuevas capacidades\, como es aprender a bailar\, influye muy positivamente en el sistema neurológico. Según estudios recientes\, practicar el baile con regularidad puede reducir el riesgo de sufrir demencia o deterioro cognitivo hasta un 75%. Esto se debe al ejercicio constante de coordinación y memorización que se necesita para aprender las coreografías. Por lo tanto\, al bailar\, se ejercita el cuerpo\, pero también el cerebro. \n4. Evita el sedentarismo\nHoy día nuestras vidas tienden a ser sedentarias\, pero a la vez es difícil encontrar un deporte que nos motive para movernos. El baile es la solución perfecta porque aporta todos los beneficios del deporte\, pero es mucho más divertido. Mejora la circulación\, tonifica la musculatura\, y quema grasas y calorías\, todo ello al ritmo de la música y sin sufrir. \n5. Mejora la flexibilidad\nCasi todos los estilos de baile requieren ciertos pasos y movimientos para los que hay que estirar y trabajar los músculos. Esto significa que poco a poco se va aumentando la flexibilidad del cuerpo\, solamente bailando ciertos ritmos. Además\, en la mayoría de las clases se realizan ejercicios de calentamiento y estiramientos previos para trabajar la flexibilidad y prevenir lesiones. \n6. Aporta felicidad\nPor todo lo anterior\, las clases de baile pueden convertirse en fuente de felicidad. Socializamos\, creamos vínculos\, mejoramos nuestra condición física\, y nos sentimos mejor en nuestro cuerpo y con mucha más confianza en nuestras capacidades. Todo ello\, inevitablemente contribuye a un bienestar general que nos hace sentir más felices. Además\, cada vez que bailamos\, el cerebro segrega endorfinas\, unos neurotransmisores que proporcionan sensaciones placenteras.
URL:https://majustudios.com/evento/clase-de-baile-ritmos-latinos/
LOCATION:MaJu Studios Sede Manizales\, MaJu Studios\, Manizales\, Caldas\, 170001\, Colombia
CATEGORIES:Clases,Integraciones,Talleres
ATTACH;FMTTYPE=image/jpeg:https://majustudios.com/wp-content/uploads/2022/11/Clases-de-baile-Academia-latinoeb-Manizales-min.jpg
ORGANIZER;CN="Equipo MaJu Studios":MAILTO:Info@majustudios.com
END:VEVENT
BEGIN:VEVENT
DTSTART;TZID=UTC:20221116T070000
DTEND;TZID=UTC:20221130T200000
DTSTAMP:20260421T001639
CREATED:20221101T184739Z
LAST-MODIFIED:20221117T003056Z
UID:6177-1668582000-1669838400@majustudios.com
SUMMARY:Concurso Noviembre - SMART TV de Ultima Generación
DESCRIPTION:Participa en el Concurso de Noviembre de MaJu Studios y gánate un Espectacular SMART TV de Ultima generación. \nHoy queremos oficializar nuestro concurso de noviembre el cual tendrá como premio un espectacular Smart tv de ultima generación para que puedas disfrutar de contenidos en Streamign de plataformas como Netflix\, HBO o Prime Video en 4k e incluso te lo estrenes viendo los partidos del Mundial de Qatar 2022 que se llevara a cabo durante el mes de noviembre hasta mediados de diciembre\, podrás disfrutar la gran final del mundial en tu nuevo Smart Tv. \nTérminos y condiciones del concurso Noviembre 2022\n\nInicia: Miércoles 16 de Noviembre 2022 00:01AM.\nFinaliza: Lunes 30 de Noviembre 11:59PM.\nModelo con la mas alta facturación.\nAsistir los 13 días de la respectiva quincena (No puede tener inasistencias).\nLos resultados del concurso y premiación serán entregados el 01 de Diciembre en nuestra sede ubicada en Manizales sector Chipre.\n\n \nTambién tendremos premios sorpresas para quienes no fallen durante el tiempo de Concurso de Noviembre de MaJu Studios. \nEl Concurso de Noviembre es un preámbulo para el próximo concurso de Diciembre que tiene preparado MaJu Studios en su sede de Manizales. \nSi aun no trabajas con MaJu Studios\, únete a nuestro equipo y logra grandes incentivos\, beneficios y convenios activos con empresas aliadas.
URL:https://majustudios.com/evento/concurso-noviembre-maju-studios/
LOCATION:MaJu Studios Sede Manizales\, MaJu Studios\, Manizales\, Caldas\, 170001\, Colombia
CATEGORIES:Concursos
ATTACH;FMTTYPE=image/jpeg:https://majustudios.com/wp-content/uploads/2022/11/Concurso-MaJu-studios-ganate-un-smar-tv-min.jpg
ORGANIZER;CN="Equipo MaJu Studios":MAILTO:Info@majustudios.com
END:VEVENT
END:VCALENDAR